BEGIN:VCALENDAR
VERSION:2.0
PRODID:-//wp-events-plugin.com//7.2.3.1//EN
BEGIN:VEVENT
UID:915@bananaswing.fr
DTSTART:20260416T190000Z
DTEND:20260417T003000Z
DTSTAMP:20260311T074455Z
URL:https://www.bananaswing.fr/evenements/stages-lindy-hop-et-bachata-soir
 ee-latino-rock-au-bowling-cap-malo/
SUMMARY:Stages Lindy hop et Bachata + Soirée Latino-Rock au Bowling Cap Ma
 lo
DESCRIPTION:19h à 20h30 : Stage lindy hop débutant évolutif (10€)\n20h
 30 à 22h : Stage Bachata débutant évolutif  et inter évolutif (2 grou
 pes de niveaux)  (10€)\nForfait 2 stages Lindy + Bachata = 15 €\n 22
 h à 0h30 : Soirée Latino-Rock\nSoirée gratuite pour les adhérents à l
 'association BananaSwing\nAdhésion Avril 2026 à BananaSwing 5€ \nCons
 ommation de courtoisie\n&nbsp\;\n\n&nbsp\;\n\n+ d'infos : 0679723935
ATTACH;FMTTYPE=image/jpeg:https://www.bananaswing.fr/wp-content/uploads/Co
 pie-de-Soirees-9.png
CATEGORIES:Cours,Soirées spéciales
LOCATION:Bowling Cap malo\, Z.A.C Cap Malo\, La Mézière\, 35520\, France
X-APPLE-STRUCTURED-LOCATION;VALUE=URI;X-ADDRESS=Z.A.C Cap Malo\, La Méziè
 re\, 35520\, France;X-APPLE-RADIUS=100;X-TITLE=Bowling Cap malo:geo:0,0
END:VEVENT
END:VCALENDAR