BEGIN:VCALENDAR
VERSION:2.0
PRODID:-//wp-events-plugin.com//7.2.3.1//EN
BEGIN:VEVENT
UID:918@bananaswing.fr
DTSTART:20260418T200000Z
DTEND:20260419T010000Z
DTSTAMP:20260418T095955Z
URL:https://www.bananaswing.fr/evenements/stage-de-salsa-et-bachata-soiree
 -50-sbk-50-rock-a-ladmb-a-chateaugiron/
SUMMARY:[Annulé] Stage de Salsa et Bachata + Soirée 70% SBK + 30% Rock à
  l'ADMB à Chateaugiron
DESCRIPTION:Cette soirée est malheureusement annulée\n20h : Salsa cubaine
  débutant évolutif (5€)\n21h : Bachata débutant évolutif (5€)\n 2
 2h à 1h : Soirée 70% SBK + 30% Rock \n Soirée gratuite pour tous\nPo
 ur ceux et celles qui souhaitent dîner sur place\, vous aurez droit à un
 e petite réduction de 10% sur votre repas !\nConsommation de courtoisie\n
 &nbsp\;\n\n&nbsp\;\n\n+ d'infos : 0679723935
CATEGORIES:Cours,Soirées spéciales
LOCATION:ADMB\, Centre Commercial Univer\, 59 rue Comptoirs\, Chateaugiron\
 , France\, 35410\, France
X-APPLE-STRUCTURED-LOCATION;VALUE=URI;X-ADDRESS=Centre Commercial Univer\, 
 59 rue Comptoirs\, Chateaugiron\, France\, 35410\, France;X-APPLE-RADIUS=1
 00;X-TITLE=ADMB:geo:0,0
END:VEVENT
END:VCALENDAR