BEGIN:VCALENDAR
VERSION:2.0
PRODID:-//wp-events-plugin.com//7.2.3.1//EN
BEGIN:VEVENT
UID:796@bananaswing.fr
DTSTART:20250604T194500Z
DTEND:20250604T224500Z
DTSTAMP:20250601T053526Z
URL:https://www.bananaswing.fr/evenements/stage-de-salsa-cubana-debutant-e
 t-inter-pratiqua-auditorium-de-lespace-simone-veil-7/
SUMMARY:Stage de Salsa cubana débutant et inter + Pratique (Auditorium de 
 l'Espace Simone Veil)
DESCRIPTION:Programme de la soirée :\n19h45 : Initiation salsa cubaine gra
 tuite \n20h15 : Cours de salsa débutant (maîtrise du dile que no demand
 é) (5 €)\n21h15 : Cours de salsa débutant et inter (5 €)\n22h15 : Pr
 atique libre et gratuite \n&nbsp\;\nTarif unique : 5 € par cours\n+ d'i
 nfos : 0679723935\nPour intégrer le groupe WhatsApp du mercredi\, ainsi q
 ue la communauté BananaSwing : https://chat.whatsapp.com/HZEeyjQZhkJLu6SY
 8EPOPD
ATTACH;FMTTYPE=image/jpeg:https://www.bananaswing.fr/wp-content/uploads/Sa
 lsa-15.png
CATEGORIES:Cours,Soirées spéciales
LOCATION:Auditorium de l'Espace Simone Veil\, Rue des Planches\, Bruz\, 351
 70\, France
X-APPLE-STRUCTURED-LOCATION;VALUE=URI;X-ADDRESS=Rue des Planches\, Bruz\, 3
 5170\, France;X-APPLE-RADIUS=100;X-TITLE=Auditorium de l'Espace Simone Vei
 l:geo:0,0
END:VEVENT
END:VCALENDAR