BEGIN:VCALENDAR
VERSION:2.0
PRODID:-//wp-events-plugin.com//7.2.3.1//EN
BEGIN:VEVENT
UID:763@bananaswing.fr
DTSTART:20250411T200000Z
DTEND:20250412T020000Z
DTSTAMP:20250407T054516Z
URL:https://www.bananaswing.fr/evenements/stage-de-salsa-cubaine-soiree-la
 tino-rock-au-domaine-de-cice-blossac/
SUMMARY:Stage de Kizomba + Soirée Latino-Rock  au Domaine de Cicé-Blossac
DESCRIPTION:20h : Kizomba débutant et inter (2 groupes\, 2 salles) \n21h 
 à 2h : Soirée dansante "Latino-Rock"(50% Rock+Swing et 50% SBK)\nTarif u
 nique : 8 € avec 1 conso (avec ou sans cours)\nAttention\, ce n'est pas
  possible de régler en carte bancaire !\n&nbsp\;\n\n&nbsp\;\n\n+ d'infos 
 : 0679723935
ATTACH;FMTTYPE=image/jpeg:https://www.bananaswing.fr/wp-content/uploads/IM
 G-20250317-WA0001.jpg
CATEGORIES:Cours,Soirées spéciales
LOCATION:Domaine de Cicé-Blossac\, Avenue de la Chaise\, Bruz\, 35170\, Fr
 ance
X-APPLE-STRUCTURED-LOCATION;VALUE=URI;X-ADDRESS=Avenue de la Chaise\, Bruz\
 , 35170\, France;X-APPLE-RADIUS=100;X-TITLE=Domaine de Cicé-Blossac:geo:0
 ,0
END:VEVENT
END:VCALENDAR