BEGIN:VCALENDAR
VERSION:2.0
PRODID:-//wp-events-plugin.com//7.2.3.1//EN
BEGIN:VEVENT
UID:563@bananaswing.fr
DTSTART:20231011T200000Z
DTEND:20231011T220000Z
DTSTAMP:20231007T062552Z
URL:https://www.bananaswing.fr/evenements/stage-de-salsa-cubaine-a-la-mais
 on-de-quartier-ste-therese/
SUMMARY:Stage de salsa cubaine à la Maison de Quartier Ste-Thérèse
DESCRIPTION:\n20h à 22h : Stage de salsa cubaine pour débutants\n\n\n\nTa
 rif = 10 €\n\n\n\n\n\n+ d'infos au 0679723935
ATTACH;FMTTYPE=image/jpeg:https://www.bananaswing.fr/wp-content/uploads/sc
 an-pdf.jpg
CATEGORIES:Cours,Soirées spéciales
LOCATION:Maison de Quartier Sainte-Thérèse\, 14 rue Jean Boucher\, Rennes
 \, Ille-et-Vilaine\, 35000\, France
X-APPLE-STRUCTURED-LOCATION;VALUE=URI;X-ADDRESS=14 rue Jean Boucher\, Renne
 s\, Ille-et-Vilaine\, 35000\, France;X-APPLE-RADIUS=100;X-TITLE=Maison de 
 Quartier Sainte-Thérèse:geo:0,0
END:VEVENT
END:VCALENDAR