BEGIN:VCALENDAR
VERSION:2.0
PRODID:-//wp-events-plugin.com//7.2.3.1//EN
BEGIN:VEVENT
UID:917@bananaswing.fr
DTSTART:20260404T200000Z
DTEND:20260405T010000Z
DTSTAMP:20260331T060524Z
URL:https://www.bananaswing.fr/evenements/stage-de-rock-et-bachata-soiree-
 50-sbk-50-rock-a-ladmb-a-chateaugiron/
SUMMARY:Stage de Lindy hop et Bachata + Soirée 70% SBK + 30% Rock à l'ADM
 B à Châteaugiron
DESCRIPTION:20h : Lindy Hop débutant évolutif (5€)\n21h : Bachata débu
 tant évolutif (5€)\n 22h à 1h : Soirée 70% SBK + 30% Rock &amp\; Swi
 ng\n Soirée gratuite pour tous\nPour ceux et celles qui souhaitent dîn
 er sur place\, vous aurez droit à une petite réduction de 10% sur votre 
 repas !\n&nbsp\;\nConsommation de courtoisie\n&nbsp\;\n\n&nbsp\;\n\n+ d'in
 fos : 0679723935
ATTACH;FMTTYPE=image/jpeg:https://www.bananaswing.fr/wp-content/uploads/Co
 pie-de-Vendredi-Flyer-A4-21.png
CATEGORIES:Cours,Soirées spéciales
LOCATION:ADMB\, Centre Commercial Univer\, 59 rue Comptoirs\, Chateaugiron\
 , France\, 35410\, France
X-APPLE-STRUCTURED-LOCATION;VALUE=URI;X-ADDRESS=Centre Commercial Univer\, 
 59 rue Comptoirs\, Chateaugiron\, France\, 35410\, France;X-APPLE-RADIUS=1
 00;X-TITLE=ADMB:geo:0,0
END:VEVENT
END:VCALENDAR