BEGIN:VCALENDAR
VERSION:2.0
PRODID:-//wp-events-plugin.com//7.2.3.1//EN
BEGIN:VEVENT
UID:206@bananaswing.fr
DTSTART:20191005T193000Z
DTEND:20191006T013000Z
DTSTAMP:20191002T082118Z
URL:https://www.bananaswing.fr/evenements/soiree-latino-rock-gratuite-au-c
 ooking-pot-initiation-bachata-lindy-hop/
SUMMARY:Soirée Latino-Rock gratuite au Cooking-Pot\, Initiation BACHATA & 
 Lindy Hop
DESCRIPTION:Soirée Latino-Rock au Cooking Pot ! (près de l'Intermarché d
 es Longschamps)\nPour se mettre en jambe avant la soirée\, une initiatio
 n de BACHATA (5 €) est proposée à 19h30 et une initiation  de LI
 NDY HOP à 21h (5 €)\nDe 20H30 à 21h\, petite séance de pratique li
 bre de Bachata afin d'optimiser le cours d'initiation !\n A partir de 22h
  et jusqu'à 1h30 soirée gratuite pour tous !\n Consommation de courtois
 ie
CATEGORIES:Cours,Soirées spéciales
LOCATION:Cooking Pot\, Allée Morvan Lebesque\, Rennes\, Ille-et-Vilaine\, 
 35700\, France
X-APPLE-STRUCTURED-LOCATION;VALUE=URI;X-ADDRESS=Allée Morvan Lebesque\, Re
 nnes\, Ille-et-Vilaine\, 35700\, France;X-APPLE-RADIUS=100;X-TITLE=Cooking
  Pot:geo:0,0
END:VEVENT
END:VCALENDAR