BEGIN:VCALENDAR
VERSION:2.0
PRODID:-//wp-events-plugin.com//7.2.3.1//EN
BEGIN:VEVENT
UID:474@bananaswing.fr
DTSTART:20230318T194500Z
DTEND:20230319T030000Z
DTSTAMP:20230312T204218Z
URL:https://www.bananaswing.fr/evenements/soiree-concert-gratuit-avec-the-
 glenn-gibson-band-au-bowling-alma/
SUMMARY:Soirée-Concert (gratuit) avec "The Glenn Gibson Band" au Bowling A
 lma
DESCRIPTION:20h :  Initiation au Shim Sham (5 €)\n  21h : Rock tous n
 iveaux (5€)\n22h à 3h : The Glenn Gibson Band (Piano\, batterie\, 2 gui
 tares et chant)\n(Play-list latino-Rock pendant les pauses du groupe)\nSoi
 rée gratuite pour tous\nConsommation de courtoisie\n
ATTACH;FMTTYPE=image/jpeg:https://www.bananaswing.fr/wp-content/uploads/IM
 G-20220407-WA0002.jpg
CATEGORIES:Cours,Soirées spéciales
LOCATION:Bowling Alma\, 2 rue du Bosphore\, Rennes\, 35000\, France
X-APPLE-STRUCTURED-LOCATION;VALUE=URI;X-ADDRESS=2 rue du Bosphore\, Rennes\
 , 35000\, France;X-APPLE-RADIUS=100;X-TITLE=Bowling Alma:geo:0,0
END:VEVENT
END:VCALENDAR