BEGIN:VCALENDAR
VERSION:2.0
PRODID:-//wp-events-plugin.com//7.2.3.1//EN
BEGIN:VEVENT
UID:578@bananaswing.fr
DTSTART:20231122T200000Z
DTEND:20231122T220000Z
DTSTAMP:20231111T092840Z
URL:https://www.bananaswing.fr/evenements/soiree-100-lindy-hop-2/
SUMMARY:Soirée 100% Lindy hop à Bruz !
DESCRIPTION:20h : Initiation au lindy hop\n21h à 22h : Swing'apéro !\nPar
 ticipation libre et consciente\nPour encore plus de convivialité\, vous p
 ouvez apporter boissons et gourmandises à partager !\nPensez à apporter 
 votre verre ou gobelet réutilisable !\n&nbsp\;\n\n+ d'infos : 0679723935
ATTACH;FMTTYPE=image/jpeg:https://www.bananaswing.fr/wp-content/uploads/So
 irées-26.png
CATEGORIES:Cours,Soirées spéciales
LOCATION:Auditorium de l'Espace Simone Veil\, Rue des Planches\, Bruz\, 351
 70\, France
X-APPLE-STRUCTURED-LOCATION;VALUE=URI;X-ADDRESS=Rue des Planches\, Bruz\, 3
 5170\, France;X-APPLE-RADIUS=100;X-TITLE=Auditorium de l'Espace Simone Vei
 l:geo:0,0
END:VEVENT
END:VCALENDAR