BEGIN:VCALENDAR
VERSION:2.0
PRODID:-//wp-events-plugin.com//7.2.3.1//EN
BEGIN:VEVENT
UID:558@bananaswing.fr
DTSTART:20231004T200000Z
DTEND:20231004T220000Z
DTSTAMP:20230929T144210Z
URL:https://www.bananaswing.fr/evenements/soiree-100-bachata/
SUMMARY:Soirée 100% Bachata !
DESCRIPTION:20h : Initiation à la bachata\n20h30 à 22h : Bachat'Apéro !
 \nParticipation libre et consciente\nPour encore plus de convivialité\, v
 ous pouvez apporter boissons et gourmandises à partager !\nPensez à appo
 rter votre verre ou gobelet réutilisable !\n&nbsp\;\n\n+ d'infos : 067972
 3935
ATTACH;FMTTYPE=image/jpeg:https://www.bananaswing.fr/wp-content/uploads/So
 irées-Publication-Facebook-42.png
CATEGORIES:Cours,Soirées spéciales
LOCATION:Auditorium de l'Espace Simone Veil\, Rue des Planches\, Bruz\, 351
 70\, France
X-APPLE-STRUCTURED-LOCATION;VALUE=URI;X-ADDRESS=Rue des Planches\, Bruz\, 3
 5170\, France;X-APPLE-RADIUS=100;X-TITLE=Auditorium de l'Espace Simone Vei
 l:geo:0,0
END:VEVENT
END:VCALENDAR