BEGIN:VCALENDAR
VERSION:2.0
PRODID:-//wp-events-plugin.com//7.2.3.1//EN
BEGIN:VEVENT
UID:405@bananaswing.fr
DTSTART:20220721T200000Z
DTEND:20220722T010000Z
DTSTAMP:20220717T085850Z
URL:https://www.bananaswing.fr/evenements/rock-tous-niveaux-bachata-deb-et
 -inter-soiree-latino-rock-au-bowling-alma-9/
SUMMARY:Rock tous niveaux & Bachata déb et inter + Soirée Latino-Rock au 
 Bowling Alma
DESCRIPTION:20h : Rock débutant\, inter et avancé (5€)\n21h : Bachata d
 ébutant et inter (5€)\n 22h à 1h : Soirée Latino-Rock\nSoirée gratu
 ite pour tous\n Consommation de courtoisie
ATTACH;FMTTYPE=image/jpeg:https://www.bananaswing.fr/wp-content/uploads/do
 wnload-1.jpg
CATEGORIES:Cours,Soirées spéciales
LOCATION:Bowling Alma\, 2 rue du Bosphore\, Rennes\, 35000\, France
X-APPLE-STRUCTURED-LOCATION;VALUE=URI;X-ADDRESS=2 rue du Bosphore\, Rennes\
 , 35000\, France;X-APPLE-RADIUS=100;X-TITLE=Bowling Alma:geo:0,0
END:VEVENT
END:VCALENDAR