BEGIN:VCALENDAR
VERSION:2.0
PRODID:-//wp-events-plugin.com//7.2.3.1//EN
BEGIN:VEVENT
UID:404@bananaswing.fr
DTSTART:20220714T190000Z
DTEND:20220715T010000Z
DTSTAMP:20220710T134759Z
URL:https://www.bananaswing.fr/evenements/rock-tous-niveaux-bachata-deb-et
 -inter-soiree-latino-rock-au-bowling-alma-8/
SUMMARY:Bachata Styling\, Rock tous niveaux & Bachata déb et inter + Soir
 ée Latino-Rock au Bowling Alma
DESCRIPTION:19h Bachata Styling (5 €)\n20h : Rock débutant\, inter et av
 ancé (5€)\n21h : Bachata débutant et inter (5€)\n 22h à 1h : Prati
 que Latino-Rock\nSoirée gratuite pour les adhérents\nAdhésion Juillet 
 2022 à BananaSwing 5€ \n Consommation de courtoisie
CATEGORIES:Cours,Soirées spéciales
LOCATION:Bowling Alma\, 2 rue du Bosphore\, Rennes\, 35000\, France
X-APPLE-STRUCTURED-LOCATION;VALUE=URI;X-ADDRESS=2 rue du Bosphore\, Rennes\
 , 35000\, France;X-APPLE-RADIUS=100;X-TITLE=Bowling Alma:geo:0,0
END:VEVENT
END:VCALENDAR