BEGIN:VCALENDAR
VERSION:2.0
PRODID:-//wp-events-plugin.com//7.2.3.1//EN
BEGIN:VEVENT
UID:844@bananaswing.fr
DTSTART:20251231T200000Z
DTEND:20260101T050000Z
DTSTAMP:20250901T092342Z
URL:https://www.bananaswing.fr/evenements/reveillon-dansant-auberge-espagn
 ole-au-tiki-a-chateaubriant-2/
SUMMARY:Réveillon dansant "auberge espagnole" au Tiki à Châteaubriant
DESCRIPTION: Pour la dernière soirée de l’année 2025 venez passer le 
 réveillon du nouvel an dans la joie et la bonne humeur.\n\nRendez-vous au
  Tiki\, dès 20h pour cette soirée de la Saint-Sylvestre inoubliable !\n\
 nLe Tiki est un très bel espace\, idéal pour faire la fête (400 m2)\, e
 t cerise sur le gâteau un superbe parquet en chêne (200m2) pour les pass
 ionnés de danse. Pour un aperçu du lieu n’hésitez pas à consulter le
  site : https://www.tiki-reception.fr/\n\nPour le côté gourmand et festi
 f\, nous partagerons les mets  que chacun aura eu la gentillesse d’appo
 rter *.\n\n\nAu programme :\n\n– Accueil dès 19h45\n\n– Initiation de
  merengue de 20h à 20h30\n\n– Cocktail  de bienvenue à 20h30\n\n– 
 Soirée dansante  de 20h30 à 5h du matin avec années 80\, rock\, mereng
 ue\, zouk\, kizomba\, salsa\, bachata\, swing\, line-dance\, chacha\, et a
 utres à la demande…\n\n Et pourquoi pas venir déguisés pour mettre u
 n grain de folie à cette soirée mémorable..!\n\n(*)Pensez à découper 
 chez vous tartes\, quiches et autres cakes ou desserts en petites parts fa
 ciles à saisir (pour éviter des attentes trop longues au buffet et pour 
 l’hygiène).\n\nParticipation : 20 €  avec un plat salé\, un plat su
 cré et une boisson (pensez à apporter couverts\, assiette et verre).\n\n
 Réservation obligatoire : 0679723935 (places limitées)
ATTACH;FMTTYPE=image/jpeg:https://www.bananaswing.fr/wp-content/uploads/IM
 G-20250831-WA0000.jpg
CATEGORIES:Cours,Dîner dansant,Soirées spéciales
LOCATION:Le Tiki\, Rue des Vauzelles\, Châteaubriant\, France\, 44110\, Fr
 ance
X-APPLE-STRUCTURED-LOCATION;VALUE=URI;X-ADDRESS=Rue des Vauzelles\, Châtea
 ubriant\, France\, 44110\, France;X-APPLE-RADIUS=100;X-TITLE=Le Tiki:geo:0
 ,0
END:VEVENT
END:VCALENDAR