BEGIN:VCALENDAR
VERSION:2.0
PRODID:-//wp-events-plugin.com//7.2.3.1//EN
BEGIN:VEVENT
UID:846@bananaswing.fr
DTSTART:20250910T203000Z
DTEND:20250910T220000Z
DTSTAMP:20250906T074428Z
URL:https://www.bananaswing.fr/evenements/portes-ouvertes-et-cours-dessai-
 rock-et-lindy-hop-au-studio-de-danse-a-breal/
SUMMARY:Portes Ouvertes et cours d'essai Rock et Lindy hop au Studio de dan
 se à Bréal
DESCRIPTION:Cours d'essai gratuit :\n\n20h à 21h30 : Rock et Lindy hop dé
 butant\n\nPour plus d'informations : 0679723935
ATTACH;FMTTYPE=image/jpeg:https://www.bananaswing.fr/wp-content/uploads/Vo
 tre-texte-de-paragraphe-8.png
CATEGORIES:Cours,Soirées spéciales
LOCATION:Studio de danse\, 55 rue de Montfort\, Bréal\, 35310\, France
X-APPLE-STRUCTURED-LOCATION;VALUE=URI;X-ADDRESS=55 rue de Montfort\, Bréal
 \, 35310\, France;X-APPLE-RADIUS=100;X-TITLE=Studio de danse:geo:0,0
END:VEVENT
END:VCALENDAR