BEGIN:VCALENDAR
VERSION:2.0
PRODID:-//wp-events-plugin.com//7.2.3.1//EN
BEGIN:VEVENT
UID:845@bananaswing.fr
DTSTART:20250908T200000Z
DTEND:20250908T213000Z
DTSTAMP:20250906T074322Z
URL:https://www.bananaswing.fr/evenements/portes-ouvertes-et-cours-dessai-
 au-studio-de-danse-a-breal/
SUMMARY:Portes Ouvertes et cours d'essai de Bachata et Salsa au Studio de d
 anse à Bréal
DESCRIPTION:Cours d'essai gratuit :\n\n20h à 21h30 : Bachata et Salsa cuba
 ine débutant\n\nPour plus d'informations : 0679723935
ATTACH;FMTTYPE=image/jpeg:https://www.bananaswing.fr/wp-content/uploads/Vo
 tre-texte-de-paragraphe-8.png
CATEGORIES:Cours,Soirées spéciales
LOCATION:Studio de danse\, 55 rue de Montfort\, Bréal\, 35310\, France
X-APPLE-STRUCTURED-LOCATION;VALUE=URI;X-ADDRESS=55 rue de Montfort\, Bréal
 \, 35310\, France;X-APPLE-RADIUS=100;X-TITLE=Studio de danse:geo:0,0
END:VEVENT
END:VCALENDAR