BEGIN:VCALENDAR
VERSION:2.0
PRODID:-//wp-events-plugin.com//7.2.3.1//EN
BEGIN:VEVENT
UID:342@bananaswing.fr
DTSTART:20211021T184500Z
DTEND:20211022T010000Z
DTSTAMP:20210922T060654Z
URL:https://www.bananaswing.fr/evenements/line-dance-rock-bachata-soiree-l
 atino-rock-au-bowling-alma-4/
SUMMARY:Line-dance\, Rock & Bachata + Soirée Latino-Rock au Bowling Alma
DESCRIPTION:18h45 : Line-dance  (2 €) \n19h15 : Bachata Débutant (Cou
 rs évolutif) (5€)\n20h15 : Rock débutant (cours évolutif) (5€)\n21
 h15 : Bachata Inter (5€)\nForfait All inclusive = 15 €\n 22h à 1h : 
 Pratique Latino-Rock\nGratuit pour les stagiaires et adhérents\nAdhésio
 n Octobre 2021 à BananaSwing 5€ \n Consommation de courtoisie
ATTACH;FMTTYPE=image/jpeg:https://www.bananaswing.fr/wp-content/uploads/do
 wnload-1.jpg
CATEGORIES:Cours,Soirées spéciales
LOCATION:Bowling Alma\, 2 rue du Bosphore\, Rennes\, 35000\, France
X-APPLE-STRUCTURED-LOCATION;VALUE=URI;X-ADDRESS=2 rue du Bosphore\, Rennes\
 , 35000\, France;X-APPLE-RADIUS=100;X-TITLE=Bowling Alma:geo:0,0
END:VEVENT
END:VCALENDAR