BEGIN:VCALENDAR
VERSION:2.0
PRODID:-//wp-events-plugin.com//7.2.3.1//EN
BEGIN:VEVENT
UID:876@bananaswing.fr
DTSTART:20251129T200000Z
DTEND:20251130T010000Z
DTSTAMP:20251123T085300Z
URL:https://www.bananaswing.fr/evenements/lindy-salsa-et-bachata-soiree-la
 tino-rock-a-ladmb-a-chateaugiron-2/
SUMMARY:Lindy hop et Bachata + Soirée Latino-Rock à l'ADMB à Chateaugiro
 n
DESCRIPTION:20h : Lindy hop débutant (5€)\n21h : Bachata débutant (5€
 )\n 22h à 1h : Soirée Latino-Rock\n Soirée gratuite pour tous\nPour 
 ceux et celles qui souhaitent dîner sur place\, vous aurez droit à une p
 etite réduction de 10% sur votre repas !\n&nbsp\;\nConsommation de courto
 isie\n&nbsp\;\n\n&nbsp\;\n\n+ d'infos : 0679723935
ATTACH;FMTTYPE=image/jpeg:https://www.bananaswing.fr/wp-content/uploads/IM
 G-20251118-WA0001.jpg
CATEGORIES:Cours,Soirées spéciales
LOCATION:ADMB\, Centre Commercial Univer\, 59 rue Comptoirs\, Chateaugiron\
 , France\, 35410\, France
X-APPLE-STRUCTURED-LOCATION;VALUE=URI;X-ADDRESS=Centre Commercial Univer\, 
 59 rue Comptoirs\, Chateaugiron\, France\, 35410\, France;X-APPLE-RADIUS=1
 00;X-TITLE=ADMB:geo:0,0
END:VEVENT
END:VCALENDAR