BEGIN:VCALENDAR
VERSION:2.0
PRODID:-//wp-events-plugin.com//7.2.3.1//EN
BEGIN:VEVENT
UID:619@bananaswing.fr
DTSTART:20240427T190000Z
DTEND:20240428T030000Z
DTSTAMP:20240226T062431Z
URL:https://www.bananaswing.fr/evenements/lindy-hop-rock-soiree-latino-roc
 k-fifties-au-bowling-alma-3/
SUMMARY:Lindy hop & Rock + Soirée Latino-Rock "Fifties" au Bowling Alma
DESCRIPTION:20h : Lindy hop débutant et inter (5€)\n21h : Rock débutant
  et inter (5€)\n22h à 3h : Soirée Latino-Rock "Fifties"\nSoirée grat
 uite pour les adhérents à l'association BananaSwing\nAdhésion Avril 202
 4 à BananaSwing 5€ \nConsommation de courtoisie\n&nbsp\;\n\n&nbsp\;\n\
 n+ d'infos : 0679723935
ATTACH;FMTTYPE=image/jpeg:https://www.bananaswing.fr/wp-content/uploads/ve
 ndredi-25.png
CATEGORIES:Cours,Soirées spéciales
LOCATION:Bowling Alma\, 2 rue du Bosphore\, Rennes\, 35000\, France
X-APPLE-STRUCTURED-LOCATION;VALUE=URI;X-ADDRESS=2 rue du Bosphore\, Rennes\
 , 35000\, France;X-APPLE-RADIUS=100;X-TITLE=Bowling Alma:geo:0,0
END:VEVENT
END:VCALENDAR