BEGIN:VCALENDAR
VERSION:2.0
PRODID:-//wp-events-plugin.com//7.2.3.1//EN
BEGIN:VEVENT
UID:534@bananaswing.fr
DTSTART:20230902T190000Z
DTEND:20230903T030000Z
DTSTAMP:20230902T081552Z
URL:https://www.bananaswing.fr/evenements/kizomba-rock-bachata-soiree-lati
 no-rock-au-bowling-alma-71/
SUMMARY:Bachata\, Rock & Kizomba + Soirée Latino-Rock au Bowling Alma
DESCRIPTION:19h : Bachata débutant et inter (5€)\n  20h : Rock débuta
 nt et inter (5€)\n21h : Kizomba débutant  (5€)\n22h à 3h : Soirée
  Latino-Rock\nSoirée gratuite pour les adhérents à l'association Banan
 aSwing\nAdhésion Septembre 2023 à BananaSwing 5€ \nConsommation de co
 urtoisie\n&nbsp\;\n19h : Bachata débutant et inter (5€)\n  20h : Lind
 y hop débutant et inter (5€)\n21h : Rock débutant et inter (5€)\n22h
  à 2h : Soirée à thème "Rock Fifties" (80% Rock+20% latino)\n&nbsp\;\n
 Soirée gratuite pour les adhérents à l'association BananaSwing\nAdhési
 on Septembre 2023 à BananaSwing 5€ \nConsommation de courtoisie\n&nbsp
 \;\n\n+ d'infos : 0679723935
CATEGORIES:Cours,Soirées spéciales
LOCATION:Bowling Alma\, 2 rue du Bosphore\, Rennes\, 35000\, France
X-APPLE-STRUCTURED-LOCATION;VALUE=URI;X-ADDRESS=2 rue du Bosphore\, Rennes\
 , 35000\, France;X-APPLE-RADIUS=100;X-TITLE=Bowling Alma:geo:0,0
END:VEVENT
END:VCALENDAR