BEGIN:VCALENDAR
VERSION:2.0
PRODID:-//wp-events-plugin.com//7.2.3.1//EN
BEGIN:VEVENT
UID:522@bananaswing.fr
DTSTART:20230803T190000Z
DTEND:20230804T010000Z
DTSTAMP:20230725T083136Z
URL:https://www.bananaswing.fr/evenements/kizomba-rock-bachata-soiree-lati
 no-rock-au-bowling-alma-59/
SUMMARY:Bachata\, Rock & Kizomba + Soirée Latino-Rock au Bowling Alma
DESCRIPTION:19h : Bachata débutant et inter (2 groupes) (5€)\n  20h : 
 Rock débutant et inter (2 groupes) (5€)\n21h : Kizomba débutant (5€)
 \n22h à 1h : Soirée Latino-Rock\nSoirée gratuite pour les adhérents 
 à l'association BananaSwing\nAdhésion Août 2023 à BananaSwing 5€ \n
 Consommation de courtoisie\n&nbsp\;\n\n&nbsp\;
CATEGORIES:Cours,Soirées spéciales
LOCATION:Bowling Alma\, 2 rue du Bosphore\, Rennes\, 35000\, France
X-APPLE-STRUCTURED-LOCATION;VALUE=URI;X-ADDRESS=2 rue du Bosphore\, Rennes\
 , 35000\, France;X-APPLE-RADIUS=100;X-TITLE=Bowling Alma:geo:0,0
END:VEVENT
END:VCALENDAR