BEGIN:VCALENDAR
VERSION:2.0
PRODID:-//wp-events-plugin.com//7.2.3.1//EN
BEGIN:VEVENT
UID:502@bananaswing.fr
DTSTART:20230429T190000Z
DTEND:20230430T030000Z
DTSTAMP:20230423T120126Z
URL:https://www.bananaswing.fr/evenements/kizomba-rock-bachata-soiree-lati
 no-rock-au-bowling-alma-51/
SUMMARY:Bachata\, Kizomba et Rock + Soirée Latino-Rock au Bowling Alma
DESCRIPTION:19h : Bachata débutant (5€)\n 20h : Kizomba débutant  (5
 €)\n21h Rock débutant et inter (5 €)\n22h à 3h : Soirée Latino-Roc
 k\nSoirée gratuite pour les adhérents à l'association BananaSwing\nAdh
 ésion Mai 2023 à BananaSwing 5€ \nConsommation de courtoisie\n&nbsp\;
 \n\n&nbsp\;\n\nPour + d'infos : 0679723935\n
CATEGORIES:Cours,Soirées spéciales
LOCATION:Bowling Alma\, 2 rue du Bosphore\, Rennes\, 35000\, France
X-APPLE-STRUCTURED-LOCATION;VALUE=URI;X-ADDRESS=2 rue du Bosphore\, Rennes\
 , 35000\, France;X-APPLE-RADIUS=100;X-TITLE=Bowling Alma:geo:0,0
END:VEVENT
END:VCALENDAR