BEGIN:VCALENDAR
VERSION:2.0
PRODID:-//wp-events-plugin.com//7.2.3.1//EN
BEGIN:VEVENT
UID:470@bananaswing.fr
DTSTART:20230225T190000Z
DTEND:20230226T030000Z
DTSTAMP:20230211T082116Z
URL:https://www.bananaswing.fr/evenements/kizomba-rock-bachata-soiree-lati
 no-rock-au-bowling-alma-25/
SUMMARY:Rock\, Bachata et Kizomba + Soirée Latino-Rock au Bowling Alma
DESCRIPTION:19h : Rock débutant\, inter et avancé (5€)\n20h : Bachata 
 débutant et inter (5€)\n21h : Kizomba débutant (5€)\n22h à 3h : Soi
 rée Latino-Rock\nSoirée gratuite pour les adhérents à l'association B
 ananaSwing\nAdhésion Février 2023 à BananaSwing 5€ \nConsommation de
  courtoisie\n\n
ATTACH;FMTTYPE=image/jpeg:https://www.bananaswing.fr/wp-content/uploads/do
 wnload-1.jpg
CATEGORIES:Cours,Soirées spéciales
LOCATION:Bowling Alma\, 2 rue du Bosphore\, Rennes\, 35000\, France
X-APPLE-STRUCTURED-LOCATION;VALUE=URI;X-ADDRESS=2 rue du Bosphore\, Rennes\
 , 35000\, France;X-APPLE-RADIUS=100;X-TITLE=Bowling Alma:geo:0,0
END:VEVENT
END:VCALENDAR