BEGIN:VCALENDAR
VERSION:2.0
PRODID:-//wp-events-plugin.com//7.2.3.1//EN
BEGIN:VEVENT
UID:441@bananaswing.fr
DTSTART:20221021T190000Z
DTEND:20221022T020000Z
DTSTAMP:20221011T115940Z
URL:https://www.bananaswing.fr/evenements/kizomba-debutant-rock-bachata-to
 us-niveaux-soiree-latino-rock-au-bowling-alma-2/
SUMMARY:Kizomba débutant\, Rock & Bachata tous niveaux + Soirée Latino-Ro
 ck au Bowling Alma
DESCRIPTION:19h : Kizomba débutant (5€)\n  20h : Rock tous niveaux (5
 €)\n21h : Bachata tous niveaux (5€)\n22h à 2h : Soirée Latino-Rock\
 nSoirée gratuite pour les adhérents à l'association BananaSwing\nAdhés
 ion Octobre 2022 à BananaSwing 5€ \nConsommation de courtoisie\n&nbsp\
 ;\n\n&nbsp\;
ATTACH;FMTTYPE=image/jpeg:https://www.bananaswing.fr/wp-content/uploads/do
 wnload-1.jpg
CATEGORIES:Cours,Soirées spéciales
LOCATION:Bowling Alma\, 2 rue du Bosphore\, Rennes\, 35000\, France
X-APPLE-STRUCTURED-LOCATION;VALUE=URI;X-ADDRESS=2 rue du Bosphore\, Rennes\
 , 35000\, France;X-APPLE-RADIUS=100;X-TITLE=Bowling Alma:geo:0,0
END:VEVENT
END:VCALENDAR