BEGIN:VCALENDAR
VERSION:2.0
PRODID:-//wp-events-plugin.com//7.2.3.1//EN
BEGIN:VEVENT
UID:267@bananaswing.fr
DTSTART:20200815T120000Z
DTEND:20200816T020000Z
DTSTAMP:20200701T070617Z
URL:https://www.bananaswing.fr/evenements/journee-et-soiree-festive-au-bor
 d-de-leau-au-lieu-dit-la-plage-2/
SUMMARY:Journée et soirée festive au bord de l'eau au lieu-dit "La Plage"
DESCRIPTION:Programme de la journée :\nPique-nique convivial sur les colli
 nes\, après-midi balade et jeux en plein air ou de société selon la mé
 téo\nProgramme de la soirée :\n19h : Accueil et Apéro\n19h30 Dîner dan
 sant Latino-Rock\n-- Sangria\, toasts et petits fours\n-- Paella\n-- salad
 e de fruits frais\nCafé\n20h30 : Initiation au Merengue et à la Bachata\
 , 2 danses festives de République Domicaine\n21h30 à 2h Soirée festive 
 et conviviale (Disco\, années 80\, bachata\, merengue\, rock des années 
 50 à nos jours\, zouk\, kuduro\, et musique à la demande) nous pourrons 
 aussi danser en terrasse si le temps le permet !\nLe tarif pour la soirée
  est de 22 € \nPour les boissons\, seul l'apéro et le café sont compr
 is\, les consommations au bar seront à prix doux !\nA noter qu'il est pos
 sible de camper sur place\, toilettes sèches à disposition !
CATEGORIES:Cours,Dîner dansant,Soirées spéciales
LOCATION:La Plage\,\, La Plage\, Pléchatel\, 35470\, France
X-APPLE-STRUCTURED-LOCATION;VALUE=URI;X-ADDRESS=La Plage\, Pléchatel\, 354
 70\, France;X-APPLE-RADIUS=100;X-TITLE=La Plage\,:geo:0,0
END:VEVENT
END:VCALENDAR