BEGIN:VCALENDAR
VERSION:2.0
PRODID:-//wp-events-plugin.com//7.2.3.1//EN
BEGIN:VEVENT
UID:237@bananaswing.fr
DTSTART:20200125T193000Z
DTEND:20200126T030000Z
DTSTAMP:20200103T135339Z
URL:https://www.bananaswing.fr/evenements/initiations-west-coast-swing-sal
 sa-cubaine-soiree-saturday-rockn-salsa-a-la-maison-de-quartier-ste-therese
 /
SUMMARY:Initiations West Coast Swing & Salsa Cubaine\, soirée "Saturday Ro
 ck'n Salsa" à la Maison de Quartier Ste-Thérèse
DESCRIPTION:\n\n\n19h30 : Initiation au West Coast Swing\n20h30 : Pratique
  WCS (afin d'optimiser le cours) \n 21h : Initiation Salsa Cubana\n P.A
 .F. : initiation + soirée : 5 € \n Forfait de 10 € pour les 2 initi
 ations + la soirée \n\n\n\nDe 22h15 à 3h soirée Rock'n Salsa (rock\,
  swing\, bachata\,  WCS\, salsa\, merengue\, kizomba etc)\n\n\n\n Pour a
 grémenter le buffet\, gâteaux et boissons seront appréciés ! :-)
ATTACH;FMTTYPE=image/jpeg:https://www.bananaswing.fr/wp-content/uploads/no
 uveaulogo.png
CATEGORIES:Cours,Soirées spéciales
LOCATION:Maison de Quartier Sainte-Thérèse\, 14 rue Jean Boucher\, Rennes
 \, Ille-et-Vilaine\, 35000\, France
X-APPLE-STRUCTURED-LOCATION;VALUE=URI;X-ADDRESS=14 rue Jean Boucher\, Renne
 s\, Ille-et-Vilaine\, 35000\, France;X-APPLE-RADIUS=100;X-TITLE=Maison de 
 Quartier Sainte-Thérèse:geo:0,0
END:VEVENT
END:VCALENDAR