BEGIN:VCALENDAR
VERSION:2.0
PRODID:-//wp-events-plugin.com//7.2.3.1//EN
BEGIN:VEVENT
UID:576@bananaswing.fr
DTSTART:20231209T193000Z
DTEND:20231210T010000Z
DTSTAMP:20231012T093846Z
URL:https://www.bananaswing.fr/evenements/initiations-forro-salsa-cubaine-
 soiree-saturday-rockn-salsa-a-la-maison-de-quartier-ste-therese/
SUMMARY:Initiations Forró & Salsa Cubaine\, soirée "Saturday Rock'n Salsa
 " à la Maison de Quartier Ste-Thérèse
DESCRIPTION:\n19h30 à 20h30 : Initiation au forró\n\n\n\n20h30 à 21h30 
 : Initiation Salsa Cubaine\n21h30 : Pratique Salsa et Forró (afin d'opti
 miser les initiations) \nP.A.F. : Initiation + soirée = 6 € \n2 initi
 ations + Soirée = 10 €\nDe 22h à 1h soirée Latino-Rock (rock\, swing
 \, bachata\,  WCS\, salsa\, merengue\, kizomba etc)\n\n\n\nPour agrément
 er le buffet\, gâteaux et boissons seront appréciés ! :-)\n\n\n\n\n+ d'
 infos au 0679723935
ATTACH;FMTTYPE=image/jpeg:https://www.bananaswing.fr/wp-content/uploads/09
 12-Soirée-dansante.png
CATEGORIES:Cours,Soirées spéciales
LOCATION:Maison de Quartier Sainte-Thérèse\, 14 rue Jean Boucher\, Rennes
 \, Ille-et-Vilaine\, 35000\, France
X-APPLE-STRUCTURED-LOCATION;VALUE=URI;X-ADDRESS=14 rue Jean Boucher\, Renne
 s\, Ille-et-Vilaine\, 35000\, France;X-APPLE-RADIUS=100;X-TITLE=Maison de 
 Quartier Sainte-Thérèse:geo:0,0
END:VEVENT
END:VCALENDAR