BEGIN:VCALENDAR
VERSION:2.0
PRODID:-//wp-events-plugin.com//7.2.3.1//EN
BEGIN:VEVENT
UID:463@bananaswing.fr
DTSTART:20230304T200000Z
DTEND:20230305T010000Z
DTSTAMP:20230211T083728Z
URL:https://www.bananaswing.fr/evenements/initiation-salsa-cubaine-soiree-
 saturday-rockn-salsa-a-la-maison-de-quartier-ste-therese-2/
SUMMARY:Stage Salsa Cubaine\, soirée "Saturday Rock'n Salsa" à la Maison 
 de Quartier Ste-Thérèse
DESCRIPTION:\n\n\n19h30 à 20h15 : Initiation à la Salsa Cubaine\n19h30 
 à 21h30 : Stage Salsa Cubaine\n21h30 : Pratique Salsa (afin d'optimiser 
 le stage) \nP.A.F. : Initiation + soirée = 6 € \nStage + Soirée = 10
  €\nDe 22h à 1h soirée Latino-Rock (rock\, swing\, bachata\,  WCS\, 
 salsa\, merengue\, kizomba etc)\n\n\n\nPour agrémenter le buffet\, gâtea
 ux et boissons seront appréciés ! :-)
ATTACH;FMTTYPE=image/jpeg:https://www.bananaswing.fr/wp-content/uploads/no
 uveaulogo.png
CATEGORIES:Cours,Soirées spéciales
LOCATION:Maison de Quartier Sainte-Thérèse\, 14 rue Jean Boucher\, Rennes
 \, Ille-et-Vilaine\, 35000\, France
X-APPLE-STRUCTURED-LOCATION;VALUE=URI;X-ADDRESS=14 rue Jean Boucher\, Renne
 s\, Ille-et-Vilaine\, 35000\, France;X-APPLE-RADIUS=100;X-TITLE=Maison de 
 Quartier Sainte-Thérèse:geo:0,0
END:VEVENT
END:VCALENDAR