BEGIN:VCALENDAR
VERSION:2.0
PRODID:-//wp-events-plugin.com//7.2.3.1//EN
BEGIN:VEVENT
UID:53@bananaswing.fr
DTSTART:20180224T191500Z
DTEND:20180225T010000Z
DTSTAMP:20180219T161508Z
URL:https://www.bananaswing.fr/evenements/initiation-rock-6-temps-soiree-r
 ockn-salsa-au-cpb-ginguene/
SUMMARY:Initiation ROCK 6 temps + soirée rock`n salsa au CPB Ginguené
DESCRIPTION:Programme de la soirée :\n– 19h15 Accueil et danses libres 
 \n– 19h30 Initiation ROCK 6 temps\n– 20h30 à 1h Soirée Rock'n Sals
 a ((Rock\, swing\, salsa\, bachata\, merengue\, kuduro\, madison\, kizomba
  et semba)\nParquet de 250 m2\n Tarif : 5 € (tarif réduit pour les ad
 hérents au CPB Ginguené : 2 €)\nPour agrémenter le buffet\, gâteaux 
 et boissons seront appréciés ! :-)
LOCATION:Cercle Paul Bert Ginguené\, 13 bis rue Ginguené\, Rennes\, Ille 
 et Vilaine\, 35000\, France
GEO:48.099135;-1.685345600000005
X-APPLE-STRUCTURED-LOCATION;VALUE=URI;X-ADDRESS=13 bis rue Ginguené\, Renn
 es\, Ille et Vilaine\, 35000\, France;X-APPLE-RADIUS=100;X-TITLE=Cercle Pa
 ul Bert Ginguené:geo:48.099135,-1.685345600000005
END:VEVENT
END:VCALENDAR