BEGIN:VCALENDAR
VERSION:2.0
PRODID:-//wp-events-plugin.com//7.2.3.1//EN
BEGIN:VEVENT
UID:352@bananaswing.fr
DTSTART:20211112T180000Z
DTEND:20211113T010000Z
DTSTAMP:20210930T084335Z
URL:https://www.bananaswing.fr/evenements/initiation-merengue-bachata-soir
 ee-latino-rock-au-bureau-a-cesson-3/
SUMMARY:Initiation Merengue & bachata + Soirée Latino-Rock au Bureau à Ce
 sson
DESCRIPTION:Venez découvrir ce nouveau pub brasserie à Cesson\, un bel es
 pace chaleureux doté d'un joli parquet pour danser et s'amuser !\nLes cou
 rs et la soirée sont gratuits !\nLes cours sont de 19h à 20h30 et en vo
 ici le contenu :\n19h : Initiation au merengue\n19h30 : Initiation à la B
 achata\nLa soirée Latino-Rock débutera vers 20h30 pour finir à 1h\nPou
 r info : Happy hour de 18h à 19h (moins 50% sur les bières pression et l
 es cocktails avec ou sans alcool)\nPossibilité de dîner sur place \n
CATEGORIES:Cours,Soirées spéciales
LOCATION:Au Bureau\, Centre Commercial Carrefour Cesson\, Cesson-Sévigné\
 , France\, 35510\, Bretagne\, France
X-APPLE-STRUCTURED-LOCATION;VALUE=URI;X-ADDRESS=Centre Commercial Carrefour
  Cesson\, Cesson-Sévigné\, France\, 35510\, Bretagne\, France;X-APPLE-RA
 DIUS=100;X-TITLE=Au Bureau:geo:0,0
END:VEVENT
END:VCALENDAR