BEGIN:VCALENDAR
VERSION:2.0
PRODID:-//wp-events-plugin.com//7.2.3.1//EN
BEGIN:VEVENT
UID:648@bananaswing.fr
DTSTART:20240419T200000Z
DTEND:20240420T003000Z
DTSTAMP:20240416T110044Z
URL:https://www.bananaswing.fr/evenements/initiation-line-dance-soiree-con
 cert-avec-the-big-shots-salle-de-la-chalotais-a-vern-seiche/
SUMMARY:Initiation Line dance & Soirée-Concert avec "The Big Shots\, salle
  de la Chalotais à Vern/Seiche
DESCRIPTION:20h : Initiation Line dance\n21h à 1h : Soirée-Concert Rock'n
  Roll avec "The Big Shots"\nPlay-list latino pendant les pauses du groupe\
 nSoirée + initiation = 11 € \nBoissons et gourmandises offertes\n+ d'i
 nfos au 0679723935
ATTACH;FMTTYPE=image/jpeg:https://www.bananaswing.fr/wp-content/uploads/IM
 G-20240414-WA0001.jpg
CATEGORIES:Cours,Soirées spéciales
LOCATION:Salle des fêtes de la chalotais\, Avenue de la Chalotais\, Vern/S
 eiche\, 35770\, France
X-APPLE-STRUCTURED-LOCATION;VALUE=URI;X-ADDRESS=Avenue de la Chalotais\, Ve
 rn/Seiche\, 35770\, France;X-APPLE-RADIUS=100;X-TITLE=Salle des fêtes de 
 la chalotais:geo:0,0
END:VEVENT
END:VCALENDAR