BEGIN:VCALENDAR
VERSION:2.0
PRODID:-//wp-events-plugin.com//7.2.3.1//EN
BEGIN:VEVENT
UID:292@bananaswing.fr
DTSTART:20200919T210000Z
DTEND:20200920T023000Z
DTSTAMP:20200918T075952Z
URL:https://www.bananaswing.fr/evenements/initiation-lindy-hop-et-pratique
 -latino-rock-au-bowling-alma/
SUMMARY:Initiation Lindy Hop et Pratique Latino-Rock au Bowling Alma
DESCRIPTION:21h : Initiation au Lindy Hop \n22h à 2h30 : Soirée Latino
 -Rock (Rock\, Swing\, Bachata\, Salsa\, Kizomba\, Chacha\, Merengue\, etc
 .)\nTarif : 5 €\nConsommation de courtoisie
CATEGORIES:Cours
LOCATION:Bowling Alma\, 2 rue du Bosphore\, Rennes\, 35000\, France
X-APPLE-STRUCTURED-LOCATION;VALUE=URI;X-ADDRESS=2 rue du Bosphore\, Rennes\
 , 35000\, France;X-APPLE-RADIUS=100;X-TITLE=Bowling Alma:geo:0,0
END:VEVENT
END:VCALENDAR