BEGIN:VCALENDAR
VERSION:2.0
PRODID:-//wp-events-plugin.com//7.2.3.1//EN
BEGIN:VEVENT
UID:13@bananaswing.fr
DTSTART:20170513T210000Z
DTEND:20170513T210000Z
DTSTAMP:20170207T090246Z
URL:https://www.bananaswing.fr/evenements/initiation-bachata-soiree-rockn-
 salsa-2/
SUMMARY:Initiation Bachata + Soirée rock’n salsa
DESCRIPTION:21h : Initiation Bachata\n\n \n22h15 à l'aube : Soirée Roc
 k'n Salsa (rock\, swing\, bachata\, salsa\, merengue\, kizomba etc.)\nP.A
 .F. : 6 € (tarif réduit 3 €)\n \nVous pouvez apporter boissons et 
 gourmandises pour agrémenter le buffet ! \;-)\n\n\n[sgmb id="1"]\n
CATEGORIES:Cours
LOCATION:Maison de Quartier Sainte-Thérèse\, 14 rue Jean Boucher\, Rennes
 \, Ille-et-Vilaine\, 35000\, France
GEO:48.0982722;-1.670793099999969
X-APPLE-STRUCTURED-LOCATION;VALUE=URI;X-ADDRESS=14 rue Jean Boucher\, Renne
 s\, Ille-et-Vilaine\, 35000\, France;X-APPLE-RADIUS=100;X-TITLE=Maison de 
 Quartier Sainte-Thérèse:geo:48.0982722,-1.670793099999969
END:VEVENT
END:VCALENDAR