BEGIN:VCALENDAR
VERSION:2.0
PRODID:-//wp-events-plugin.com//7.2.3.1//EN
BEGIN:VEVENT
UID:217@bananaswing.fr
DTSTART:20191024T200000Z
DTEND:20191025T013000Z
DTSTAMP:20191017T044310Z
URL:https://www.bananaswing.fr/evenements/initiation-bachata-lindy-hop-soi
 ree-bsr-gratuite-au-bowling-alma/
SUMMARY:Initiation BACHATA & Lindy Hop + Soirée BSR gratuite au Bowling Al
 ma
DESCRIPTION:20h : Initiation BACHATA (5 €)\n21h Initiation au Lindy Hop (
 5€)\nDe 22h à 1h Soirée BSR (Bachata\, Swing\, Rock) gratuite\nConso
 mmation de courtoisie
CATEGORIES:Cours,Soirées spéciales
LOCATION:Bowling\, Centre Alma\, Rennes\, France
GEO:48.0835766;-1.6801894000000175
X-APPLE-STRUCTURED-LOCATION;VALUE=URI;X-ADDRESS=Centre Alma\, Rennes\, Fran
 ce;X-APPLE-RADIUS=100;X-TITLE=Bowling:geo:48.0835766,-1.6801894000000175
END:VEVENT
END:VCALENDAR