BEGIN:VCALENDAR
VERSION:2.0
PRODID:-//wp-events-plugin.com//7.2.3.1//EN
BEGIN:VEVENT
UID:295@bananaswing.fr
DTSTART:20210617T193000Z
DTEND:20210617T224500Z
DTSTAMP:20210617T050845Z
URL:https://www.bananaswing.fr/evenements/danses-en-ligne-au-bowling-alma/
SUMMARY:Danses en ligne au Bowling Alma
DESCRIPTION:19h30 Madison (Plusieurs versions)\n\n20h30 Chacha en ligne\n\n
 21h30 Initiation surprise
CATEGORIES:Cours
LOCATION:Bowling Alma\, 2 rue du Bosphore\, Rennes\, 35000\, France
X-APPLE-STRUCTURED-LOCATION;VALUE=URI;X-ADDRESS=2 rue du Bosphore\, Rennes\
 , 35000\, France;X-APPLE-RADIUS=100;X-TITLE=Bowling Alma:geo:0,0
END:VEVENT
END:VCALENDAR