BEGIN:VCALENDAR
VERSION:2.0
PRODID:-//wp-events-plugin.com//7.2.3.1//EN
BEGIN:VEVENT
UID:348@bananaswing.fr
DTSTART:20211010T150000Z
DTEND:20211010T200000Z
DTSTAMP:20210930T051018Z
URL:https://www.bananaswing.fr/evenements/cours-rock-debutant-intermediair
 e-et-avance-pratique-latino-rock-a-lespace-simone-veil-bruz-2/
SUMMARY:Cours Rock débutant\, intermédiaire et Avancé  + Pratique Latino
 -Rock à l'Espace Simone Veil (Bruz)
DESCRIPTION:15h : Initiation au Rock 6 temps (Salle 1)\n15h : Cours de Rock
  intermédiaire et avancé\n16h à 20h : Pot amical de bienvenue + Pratiqu
 e Latino-Rock\nTarif unique : 10 €/5 € (Adhérents BananaSwing)\n&nbsp
 \;\n\n&nbsp\;\n\n&nbsp\;
CATEGORIES:Cours
LOCATION:Auditorium de l'Espace Simone Veil\, Rue des Planches\, Bruz\, 351
 70\, France
X-APPLE-STRUCTURED-LOCATION;VALUE=URI;X-ADDRESS=Rue des Planches\, Bruz\, 3
 5170\, France;X-APPLE-RADIUS=100;X-TITLE=Auditorium de l'Espace Simone Vei
 l:geo:0,0
END:VEVENT
END:VCALENDAR