BEGIN:VCALENDAR
VERSION:2.0
PRODID:-//wp-events-plugin.com//7.2.3.1//EN
BEGIN:VEVENT
UID:690@bananaswing.fr
DTSTART:20240930T190000Z
DTEND:20240930T220000Z
DTSTAMP:20240923T123726Z
URL:https://www.bananaswing.fr/evenements/cours-dessai-a-lecole-noel-du-fa
 il-a-vern-seiche/
SUMMARY:Cours d'essai à l'école Noël du Fail à Vern/Seiche
DESCRIPTION:Cours d'essai gratuit :\n\n19h à 20h30 : Rock niveau avancé\n
 \n20h30 à 22h : Salsa cubaine niveau avancé (1h15)+Bachata (15 mn)\n\n22
 h : Pratique libre\n\nPour plus d'informations : 0679723935
ATTACH;FMTTYPE=image/jpeg:https://www.bananaswing.fr/wp-content/uploads/IM
 G-20240923-WA0000.jpg
CATEGORIES:Cours,Soirées spéciales
END:VEVENT
END:VCALENDAR