BEGIN:VCALENDAR
VERSION:2.0
PRODID:-//wp-events-plugin.com//7.2.3.1//EN
BEGIN:VEVENT
UID:433@bananaswing.fr
DTSTART:20220902T181500Z
DTEND:20220903T020000Z
DTSTAMP:20220825T040445Z
URL:https://www.bananaswing.fr/evenements/bachata-styling-rock-bachata-soi
 ree-latino-rock-au-bowling-alma-15/
SUMMARY:Kizomba débutant\, Bachata Styling\, Rock & Bachata tous niveaux +
  Soirée Latino-Rock au Bowling Alma
DESCRIPTION:18h15 : Bachata Styling (5€)\n19h15 : Kizomba débutant (5€
 )\n 20h15 : Rock tous niveaux (5€)\n21h15 : Bachata tous niveaux (5€)
 \nForfait "All Inclusive" = 18 €\n22h à 2h : Soirée Latino-Rock\nSoir
 ée gratuite pour les adhérents à l'association BananaSwing\nAdhésion S
 eptembre 2022 à BananaSwing 5€ \nConsommation de courtoisie\n&nbsp\;\n
 \n&nbsp\;
ATTACH;FMTTYPE=image/jpeg:https://www.bananaswing.fr/wp-content/uploads/do
 wnload-1.jpg
CATEGORIES:Cours,Soirées spéciales
LOCATION:Bowling Alma\, 2 rue du Bosphore\, Rennes\, 35000\, France
X-APPLE-STRUCTURED-LOCATION;VALUE=URI;X-ADDRESS=2 rue du Bosphore\, Rennes\
 , 35000\, France;X-APPLE-RADIUS=100;X-TITLE=Bowling Alma:geo:0,0
END:VEVENT
END:VCALENDAR