BEGIN:VCALENDAR
VERSION:2.0
PRODID:-//wp-events-plugin.com//7.2.3.1//EN
BEGIN:VEVENT
UID:653@bananaswing.fr
DTSTART:20240817T190000Z
DTEND:20240818T030000Z
DTSTAMP:20240723T070353Z
URL:https://www.bananaswing.fr/evenements/bachata-kizomba-rock-soiree-lati
 no-rock-au-bowling-alma-6/
SUMMARY:Bachata\, Kizomba & Rock + Soirée Latino-Rock au Bowling Alma
DESCRIPTION:19h : Bachata débutant et inter (5€)\n20h : Kizomba débutan
 t et inter (5€)\n21h : Rock débutant et inter (5€)\n  22h à 3h : S
 oirée Latino-Rock\nSoirée gratuite pour les adhérents à l'association
  BananaSwing\nAdhésion ÉTÉ 2024 à BananaSwing 5€ \nConsommation de 
 courtoisie\n&nbsp\;\n\n&nbsp\;\n\n+ d'infos : 0679723935
ATTACH;FMTTYPE=image/jpeg:https://www.bananaswing.fr/wp-content/uploads/So
 irées.png
CATEGORIES:Cours,Soirées spéciales
LOCATION:Bowling Alma\, 2 rue du Bosphore\, Rennes\, 35000\, France
X-APPLE-STRUCTURED-LOCATION;VALUE=URI;X-ADDRESS=2 rue du Bosphore\, Rennes\
 , 35000\, France;X-APPLE-RADIUS=100;X-TITLE=Bowling Alma:geo:0,0
END:VEVENT
END:VCALENDAR