BEGIN:VCALENDAR
VERSION:2.0
PRODID:-//wp-events-plugin.com//7.2.3.1//EN
BEGIN:VEVENT
UID:500@bananaswing.fr
DTSTART:20230414T193000Z
DTEND:20230415T004500Z
DTSTAMP:20230401T084810Z
URL:https://www.bananaswing.fr/evenements/apero-latino-rock-a-la-maison-du
 -ronceray-initiation-salsa-3/
SUMMARY:Apéro Latino-Rock à la Maison du Ronceray  (initiation salsa)
DESCRIPTION:Programme de la soirée :\n19h30 : Initiation Salsa Cubaine\n20
 h30 à 0h45 : Pot amical + soirée dansante (bachata\, merengue\, salsa\, 
 rock\, swing\, kizomba\, zouk\, forró\, kompa\, etc.)\nPour encore plus d
 e convivialité\, apportez boissons à partager et pourquoi pas un délici
 eux gâteau de votre confection ! :-D\nP.A.F. : 3 € (1 € pour les adh
 érents à la Maison du Ronceray)\n&nbsp\;\n\n&nbsp\;\n\nPour + d'infos : 
 0679723935
CATEGORIES:Cours,Soirées spéciales
LOCATION:Maison du Ronceray\, 110 rue de la Poterie\, RENNES\, 35000\, Bret
 agne\, France
GEO:48.0929781;-1.6407672999999932
X-APPLE-STRUCTURED-LOCATION;VALUE=URI;X-ADDRESS=110 rue de la Poterie\, REN
 NES\, 35000\, Bretagne\, France;X-APPLE-RADIUS=100;X-TITLE=Maison du Ronce
 ray:geo:48.0929781,-1.6407672999999932
END:VEVENT
END:VCALENDAR