BEGIN:VCALENDAR
VERSION:2.0
PRODID:-//wp-events-plugin.com//7.2.3.1//EN
BEGIN:VEVENT
UID:80@bananaswing.fr
DTSTART:20180421T191500Z
DTEND:20180422T010000Z
DTSTAMP:20180407T153446Z
URL:https://www.bananaswing.fr/evenements/6876/
SUMMARY:Initiation Lindy Hop\, démo de claquettes\, Soirée-Concert avec F
 rim Fram Swing Quintet
DESCRIPTION:19h15 : Accueil et danses libres \n 19h30 : Initiation de LI
 NDY HOP\n20h40 : démo de claquettes\n 21h à 1h : Soirée dansante Rock'
 n Swing &amp\; Latino avec Frim Fram Swing Quintet \n Au cours de la soi
 rée 2 démonstrations par les danseurs de claquettes de la compagnie Tap'
  Breizh\n Tarif : 8 € et 4 € pour les adhérents\nPour encore plus de
  convivialité\, apportez boissons et gourmandises à partager !
LOCATION:Cercle Paul Bert Ginguené\, 13 bis rue Ginguené\, Rennes\, Ille 
 et Vilaine\, 35000\, France
GEO:48.099144;-1.6850263999999697
X-APPLE-STRUCTURED-LOCATION;VALUE=URI;X-ADDRESS=13 bis rue Ginguené\, Renn
 es\, Ille et Vilaine\, 35000\, France;X-APPLE-RADIUS=100;X-TITLE=Cercle Pa
 ul Bert Ginguené:geo:48.099144,-1.6850263999999697
END:VEVENT
END:VCALENDAR